BEGIN:VCALENDAR
VERSION:2.0
PRODID:-//Estelle Harbulot - ECPv6.0.13.1//NONSGML v1.0//EN
CALSCALE:GREGORIAN
METHOD:PUBLISH
X-ORIGINAL-URL:https://www.estelle-harbulot.org
X-WR-CALDESC:évènements pour Estelle Harbulot
REFRESH-INTERVAL;VALUE=DURATION:PT1H
X-Robots-Tag:noindex
X-PUBLISHED-TTL:PT1H
BEGIN:VTIMEZONE
TZID:Europe/Paris
BEGIN:DAYLIGHT
TZOFFSETFROM:+0100
TZOFFSETTO:+0200
TZNAME:CEST
DTSTART:20230326T010000
END:DAYLIGHT
BEGIN:STANDARD
TZOFFSETFROM:+0200
TZOFFSETTO:+0100
TZNAME:CET
DTSTART:20231029T010000
END:STANDARD
END:VTIMEZONE
BEGIN:VEVENT
DTSTART;TZID=Europe/Paris:20231123T203000
DTEND;TZID=Europe/Paris:20231123T220000
DTSTAMP:20260420T054432
CREATED:20230924T211817Z
LAST-MODIFIED:20240522T215003Z
UID:156-1700771400-1700776800@www.estelle-harbulot.org
SUMMARY:Ciné-concert "L'étroit mousquetaire" par l'Ensemble Fabria
DESCRIPTION:Pour son ciné-concert\, l’Ensemble Fabria juxtapose la musique vivante à la projection de deux films muets L’étroit Mousquetaire de Max Linder et en préambule\, La Course à La Saucisse d’Alice Guy\, première femme réalisatrice. Dans l’esprit des chefs d’œuvres en noir et blanc\, les musiciens facétieux usent de tous les timbres et de tous les modes de jeu\, s’amusent avec les styles et les époques et créent des ambiances inédites pour colorer la narration à leur goût. \nAu tournant du 20ème siècle\, Alice Guy est une référence internationale dans le monde du cinéma. Il reste peu de films aujourd’hui de celle qui\, la première\, eut l’idée d’utiliser le cinéma pour raconter des histoires. Tous témoignent de son inventivité\, de son audace et de son savoir-faire. \nEn 1921 est tourné « Les trois mousquetaires ». Max Linder\, pionnier du cinéma burlesque français célébré jusqu’à Hollywood et admiré par Chaplin\, ne résiste pas à le parodier en tournant « L’étroit Mousquetaire »\, faisant la part belle aux cascades invraisemblables et farfelues\, jeux de mots et anachronismes délirants. \nLe spectacle est à la fois sur l’écran et sur scène lors de cette soirée rocambolesque à vivre en famille ! \navec Raphaël Howson\, Estelle Harbulot et Géraldine Chemin \nDans le cadre du festival « Les rencontres des cinémas d’Europe »\, en co-production avec « La maison de l’Image »\, « Labeaume en musiques » et le Théâtre de Vals-les-Bains. \nVoir le spectacle sur le site du Théâtre de Vals-les-Bains
URL:https://www.estelle-harbulot.org/event/cine-concert-letroit-mousquetaire-par-lensemble-fabria/
LOCATION:Théâtre Les Quinconces à Vals les Bains\, Vals les Bains
CATEGORIES:Ciné-concert
ATTACH;FMTTYPE=image/jpeg:https://www.estelle-harbulot.org/wp-content/uploads/2023/09/max-linder-1024x1024-1.jpg
END:VEVENT
END:VCALENDAR