BEGIN:VCALENDAR
VERSION:2.0
PRODID:-//Estelle Harbulot - ECPv6.0.13.1//NONSGML v1.0//EN
CALSCALE:GREGORIAN
METHOD:PUBLISH
X-WR-CALNAME:Estelle Harbulot
X-ORIGINAL-URL:https://www.estelle-harbulot.org
X-WR-CALDESC:évènements pour Estelle Harbulot
REFRESH-INTERVAL;VALUE=DURATION:PT1H
X-Robots-Tag:noindex
X-PUBLISHED-TTL:PT1H
BEGIN:VTIMEZONE
TZID:Europe/Paris
BEGIN:DAYLIGHT
TZOFFSETFROM:+0100
TZOFFSETTO:+0200
TZNAME:CEST
DTSTART:20260329T010000
END:DAYLIGHT
BEGIN:STANDARD
TZOFFSETFROM:+0200
TZOFFSETTO:+0100
TZNAME:CET
DTSTART:20261025T010000
END:STANDARD
END:VTIMEZONE
BEGIN:VEVENT
DTSTART;TZID=Europe/Paris:20260426T170000
DTEND;TZID=Europe/Paris:20260426T183000
DTSTAMP:20260426T012826
CREATED:20260410T213236Z
LAST-MODIFIED:20260410T213236Z
UID:495-1777222800-1777228200@www.estelle-harbulot.org
SUMMARY:Ciné-concert "Elles n’en font qu’à leur tête"
DESCRIPTION:Ciné-concert\nConnaissez-vous Léontine\, Rosalie et les autres personnages féminins comiques des débuts du cinéma français ? Jamais à cours de mauvais tours elles dévastent tout sur leur passage\, électrisent les passants\, s’envolent\, font littéralement perdre la tête aux hommes\, se mettent en grève ou ne suivent que leurs envies. \nUn programme pour découvrir leurs aventures dans un vent de liberté revigorant et sur musique du compositeur Nicolas Gouge qui a travaillé avec les artistes amateurs pour concocter une partition originale rien que pour le public du territoire ! \nAvec Estelle Harbulot au violon\, à la coordination et la direction d’ensembles\, Ghyslaine Florent à la flûte et au basson et 45 musiciens amateurs de 8 à 80 ans du CEMA et de la NEMA. \n\n\n\n\n\n\nUne coproduction La Maison de l’image Aubenas et Labeaume en Musiques. Avec le soutien de la Sacem\, de la Copie Privée et de la mairie d’Aubenas\, en partenariat avec le cinéma le Navire\, les écoles de musique d’Aubenas CEMA et NEMA et le centre Le Bournot.
URL:https://www.estelle-harbulot.org/event/cine-concert-elles-nen-font-qua-leur-tete/
LOCATION:Cinéma Le Navire à Aubenas
ATTACH;FMTTYPE=image/jpeg:https://www.estelle-harbulot.org/wp-content/uploads/2026/04/cineconcert.jpg
END:VEVENT
END:VCALENDAR